Package: RCASPAR Version: 1.50.0 Command: /Library/Frameworks/R.framework/Resources/bin/R CMD check --install=check:RCASPAR.install-out.txt --library=/Library/Frameworks/R.framework/Resources/library --no-vignettes --timings RCASPAR_1.50.0.tar.gz StartedAt: 2024-10-18 08:48:44 -0400 (Fri, 18 Oct 2024) EndedAt: 2024-10-18 08:49:16 -0400 (Fri, 18 Oct 2024) EllapsedTime: 31.4 seconds RetCode: 0 Status: OK CheckDir: RCASPAR.Rcheck Warnings: 0