Package: RCASPAR Version: 1.50.0 Command: /Library/Frameworks/R.framework/Resources/bin/R CMD build --keep-empty-dirs --no-resave-data RCASPAR StartedAt: 2024-10-17 07:14:47 -0400 (Thu, 17 Oct 2024) EndedAt: 2024-10-17 07:14:58 -0400 (Thu, 17 Oct 2024) EllapsedTime: 11.3 seconds RetCode: 0 Status: OK PackageFile: RCASPAR_1.50.0.tar.gz PackageFileSize: 305.4 KiB