Package: RCAS Version: 1.30.0 Command: chmod a+r RCAS -R && E:\biocbuild\bbs-3.19-bioc\R\bin\R.exe CMD build --keep-empty-dirs --no-resave-data RCAS StartedAt: 2024-10-16 21:24:22 -0400 (Wed, 16 Oct 2024) EndedAt: 2024-10-16 21:28:03 -0400 (Wed, 16 Oct 2024) EllapsedTime: 220.3 seconds RetCode: 0 Status: OK PackageFile: RCAS_1.30.0.tar.gz PackageFileSize: 1.34 MiB