Package: RCAS Version: 1.30.0 Command: chmod a+r RCAS -R && F:\biocbuild\bbs-3.19-bioc\R\bin\R.exe CMD build --keep-empty-dirs --no-resave-data RCAS StartedAt: 2024-06-26 21:17:03 -0400 (Wed, 26 Jun 2024) EndedAt: 2024-06-26 21:20:52 -0400 (Wed, 26 Jun 2024) EllapsedTime: 229.1 seconds RetCode: 0 Status: OK PackageFile: RCAS_1.30.0.tar.gz PackageFileSize: 1.34 MiB