Package: RCAS Version: 1.30.0 Command: rm -rf RCAS.buildbin-libdir && mkdir RCAS.buildbin-libdir && F:\biocbuild\bbs-3.19-bioc\R\bin\R.exe CMD INSTALL --build --library=RCAS.buildbin-libdir RCAS_1.30.0.tar.gz StartedAt: 2024-06-27 08:44:58 -0400 (Thu, 27 Jun 2024) EndedAt: 2024-06-27 08:46:09 -0400 (Thu, 27 Jun 2024) EllapsedTime: 70.3 seconds RetCode: 0 Status: OK PackageFile: RCAS_1.30.0.zip PackageFileSize: 1.797 MiB