Package: RCAS Version: 1.30.0 Command: /home/biocbuild/bbs-3.19-bioc/R/bin/R CMD INSTALL RCAS StartedAt: 2024-10-16 16:20:16 -0400 (Wed, 16 Oct 2024) EndedAt: 2024-10-16 16:21:02 -0400 (Wed, 16 Oct 2024) EllapsedTime: 46.4 seconds RetCode: 0 Status: OK