Package: RCAS Version: 1.30.0 Command: /home/biocbuild/bbs-3.19-bioc/R/bin/R CMD build --keep-empty-dirs --no-resave-data RCAS StartedAt: 2024-10-16 20:20:10 -0400 (Wed, 16 Oct 2024) EndedAt: 2024-10-16 20:22:41 -0400 (Wed, 16 Oct 2024) EllapsedTime: 150.3 seconds RetCode: 0 Status: OK PackageFile: RCAS_1.30.0.tar.gz PackageFileSize: 1.46 MiB