Package: RCAS Version: 1.30.0 Command: /Library/Frameworks/R.framework/Resources/bin/R CMD INSTALL RCAS StartedAt: 2024-10-16 16:02:04 -0400 (Wed, 16 Oct 2024) EndedAt: 2024-10-16 16:03:50 -0400 (Wed, 16 Oct 2024) EllapsedTime: 105.2 seconds RetCode: 0 Status: OK