Package: RCAS Version: 1.30.0 Command: /Library/Frameworks/R.framework/Resources/bin/R CMD build --keep-empty-dirs --no-resave-data RCAS StartedAt: 2024-10-16 22:25:22 -0400 (Wed, 16 Oct 2024) EndedAt: 2024-10-16 22:31:36 -0400 (Wed, 16 Oct 2024) EllapsedTime: 373.9 seconds RetCode: 0 Status: OK PackageFile: RCAS_1.30.0.tar.gz PackageFileSize: 1.595 MiB