Package: RCAS Version: 1.30.0 Command: rm -rf RCAS.buildbin-libdir && mkdir RCAS.buildbin-libdir && /Users/biocbuild/BBS/utils/build-universal.sh RCAS_1.30.0.tar.gz /Library/Frameworks/R.framework/Resources/bin/R RCAS.buildbin-libdir StartedAt: 2024-10-17 16:56:30 -0400 (Thu, 17 Oct 2024) EndedAt: 2024-10-17 16:58:23 -0400 (Thu, 17 Oct 2024) EllapsedTime: 112.6 seconds RetCode: 0 Status: OK PackageFile: RCAS_1.30.0.tgz PackageFileSize: 2.112 MiB