Package: RCAS Version: 1.30.0 Command: /Library/Frameworks/R.framework/Resources/bin/R CMD check --install=check:RCAS.install-out.txt --library=/Library/Frameworks/R.framework/Resources/library --no-vignettes --timings RCAS_1.30.0.tar.gz StartedAt: 2024-06-11 02:29:46 -0400 (Tue, 11 Jun 2024) EndedAt: 2024-06-11 02:44:13 -0400 (Tue, 11 Jun 2024) EllapsedTime: 866.7 seconds RetCode: 0 Status: OK CheckDir: RCAS.Rcheck Warnings: 0