Package: RCAS Version: 1.30.0 Command: /Library/Frameworks/R.framework/Resources/bin/R CMD build --keep-empty-dirs --no-resave-data RCAS StartedAt: 2024-10-17 07:14:30 -0400 (Thu, 17 Oct 2024) EndedAt: 2024-10-17 07:17:57 -0400 (Thu, 17 Oct 2024) EllapsedTime: 207.9 seconds RetCode: 0 Status: OK PackageFile: RCAS_1.30.0.tar.gz PackageFileSize: 1.598 MiB