Package: RBioFormats Version: 1.4.0 Command: E:\biocbuild\bbs-3.19-bioc\R\bin\R.exe CMD check --no-multiarch --install=check:RBioFormats.install-out.txt --library=E:\biocbuild\bbs-3.19-bioc\R\library --no-vignettes --timings RBioFormats_1.4.0.tar.gz StartedAt: 2024-10-17 04:50:29 -0400 (Thu, 17 Oct 2024) EndedAt: 2024-10-17 04:52:06 -0400 (Thu, 17 Oct 2024) EllapsedTime: 96.8 seconds RetCode: 0 Status: OK CheckDir: RBioFormats.Rcheck Warnings: 0