Package: RBioFormats Version: 1.4.0 Command: /home/biocbuild/bbs-3.19-bioc/R/bin/R CMD INSTALL RBioFormats StartedAt: 2024-10-16 16:17:49 -0400 (Wed, 16 Oct 2024) EndedAt: 2024-10-16 16:17:58 -0400 (Wed, 16 Oct 2024) EllapsedTime: 8.4 seconds RetCode: 0 Status: OK