Package: RBioFormats Version: 1.4.0 Maintainer: Andrzej OleÅ› MaintainerEmail: andrzej.oles at gmail.com git_url: https://git.bioconductor.org/packages/RBioFormats git_branch: RELEASE_3_19 git_last_commit: 56de4ee git_last_commit_date: 2024-04-30 11:46:37 -0400 (Tue, 30 Apr 2024)