Package: RBM Version: 1.36.0 Command: E:\biocbuild\bbs-3.19-bioc\R\bin\R.exe CMD check --no-multiarch --install=check:RBM.install-out.txt --library=E:\biocbuild\bbs-3.19-bioc\R\library --no-vignettes --timings RBM_1.36.0.tar.gz StartedAt: 2024-10-17 04:51:12 -0400 (Thu, 17 Oct 2024) EndedAt: 2024-10-17 04:52:10 -0400 (Thu, 17 Oct 2024) EllapsedTime: 57.8 seconds RetCode: 0 Status: OK CheckDir: RBM.Rcheck Warnings: 0