Package: RBGL Version: 1.80.0 Command: E:\biocbuild\bbs-3.19-bioc\R\bin\R.exe CMD INSTALL RBGL StartedAt: 2024-10-16 16:02:27 -0400 (Wed, 16 Oct 2024) EndedAt: 2024-10-16 16:05:46 -0400 (Wed, 16 Oct 2024) EllapsedTime: 198.6 seconds RetCode: 0 Status: OK