Package: RBGL Version: 1.80.0 Command: rm -rf RBGL.buildbin-libdir && mkdir RBGL.buildbin-libdir && E:\biocbuild\bbs-3.19-bioc\R\bin\R.exe CMD INSTALL --build --library=RBGL.buildbin-libdir RBGL_1.80.0.tar.gz StartedAt: 2024-10-17 08:25:42 -0400 (Thu, 17 Oct 2024) EndedAt: 2024-10-17 08:30:09 -0400 (Thu, 17 Oct 2024) EllapsedTime: 266.7 seconds RetCode: 0 Status: OK PackageFile: RBGL_1.80.0.zip PackageFileSize: 2.898 MiB