Package: RBGL Version: 1.80.0 Command: chmod a+r RBGL -R && F:\biocbuild\bbs-3.19-bioc\R\bin\R.exe CMD build --keep-empty-dirs --no-resave-data RBGL StartedAt: 2024-06-26 21:15:36 -0400 (Wed, 26 Jun 2024) EndedAt: 2024-06-26 21:18:08 -0400 (Wed, 26 Jun 2024) EllapsedTime: 152.4 seconds RetCode: 0 Status: OK PackageFile: RBGL_1.80.0.tar.gz PackageFileSize: 2.425 MiB