Package: RBGL Version: 1.80.0 Command: rm -rf RBGL.buildbin-libdir && mkdir RBGL.buildbin-libdir && F:\biocbuild\bbs-3.19-bioc\R\bin\R.exe CMD INSTALL --build --library=RBGL.buildbin-libdir RBGL_1.80.0.tar.gz StartedAt: 2024-06-27 08:44:42 -0400 (Thu, 27 Jun 2024) EndedAt: 2024-06-27 08:47:03 -0400 (Thu, 27 Jun 2024) EllapsedTime: 141.8 seconds RetCode: 0 Status: OK PackageFile: RBGL_1.80.0.zip PackageFileSize: 2.897 MiB