Package: RBGL Version: 1.80.0 Command: /Library/Frameworks/R.framework/Resources/bin/R CMD INSTALL RBGL StartedAt: 2024-10-16 15:09:00 -0400 (Wed, 16 Oct 2024) EndedAt: 2024-10-16 15:11:22 -0400 (Wed, 16 Oct 2024) EllapsedTime: 142.1 seconds RetCode: 0 Status: OK