Package: RBGL Version: 1.80.0 Command: /Library/Frameworks/R.framework/Resources/bin/R CMD check --install=check:RBGL.install-out.txt --library=/Library/Frameworks/R.framework/Resources/library --no-vignettes --timings RBGL_1.80.0.tar.gz StartedAt: 2024-10-17 11:30:37 -0400 (Thu, 17 Oct 2024) EndedAt: 2024-10-17 11:32:04 -0400 (Thu, 17 Oct 2024) EllapsedTime: 86.6 seconds RetCode: 0 Status: OK CheckDir: RBGL.Rcheck Warnings: 0