Package: RBGL Version: 1.80.0 Command: /Library/Frameworks/R.framework/Resources/bin/R CMD build --keep-empty-dirs --no-resave-data RBGL StartedAt: 2024-10-16 22:23:54 -0400 (Wed, 16 Oct 2024) EndedAt: 2024-10-16 22:28:10 -0400 (Wed, 16 Oct 2024) EllapsedTime: 255.4 seconds RetCode: 0 Status: OK PackageFile: RBGL_1.80.0.tar.gz PackageFileSize: 2.949 MiB