Package: RBGL Version: 1.80.0 Command: rm -rf RBGL.buildbin-libdir && mkdir RBGL.buildbin-libdir && /Users/biocbuild/BBS/utils/build-universal.sh RBGL_1.80.0.tar.gz /Library/Frameworks/R.framework/Resources/bin/R RBGL.buildbin-libdir StartedAt: 2024-06-10 00:34:13 -0400 (Mon, 10 Jun 2024) EndedAt: 2024-06-10 00:36:10 -0400 (Mon, 10 Jun 2024) EllapsedTime: 116.9 seconds RetCode: 0 Status: OK PackageFile: RBGL_1.80.0.tgz PackageFileSize: 3.411 MiB