Package: RBGL Version: 1.80.0 Command: /home/biocbuild/R/R-beta-2024-04-15_r86425/bin/R CMD check --install=check:RBGL.install-out.txt --library=/home/biocbuild/R/R-beta-2024-04-15_r86425/site-library --no-vignettes --timings RBGL_1.80.0.tar.gz StartedAt: 2024-05-09 10:58:58 -0000 (Thu, 09 May 2024) EndedAt: 2024-05-09 10:59:38 -0000 (Thu, 09 May 2024) EllapsedTime: 40.1 seconds RetCode: 0 Status: WARNINGS CheckDir: RBGL.Rcheck Warnings: 1