Package: RBGL Version: 1.80.0 Command: /Library/Frameworks/R.framework/Resources/bin/R CMD check --install=check:RBGL.install-out.txt --library=/Library/Frameworks/R.framework/Resources/library --no-vignettes --timings RBGL_1.80.0.tar.gz StartedAt: 2024-06-11 02:26:20 -0400 (Tue, 11 Jun 2024) EndedAt: 2024-06-11 02:27:35 -0400 (Tue, 11 Jun 2024) EllapsedTime: 75.2 seconds RetCode: 0 Status: OK CheckDir: RBGL.Rcheck Warnings: 0