Package: RBGL Version: 1.80.0 Command: /Library/Frameworks/R.framework/Resources/bin/R CMD build --keep-empty-dirs --no-resave-data RBGL StartedAt: 2024-10-17 07:12:29 -0400 (Thu, 17 Oct 2024) EndedAt: 2024-10-17 07:14:29 -0400 (Thu, 17 Oct 2024) EllapsedTime: 119.5 seconds RetCode: 0 Status: OK PackageFile: RBGL_1.80.0.tar.gz PackageFileSize: 2.949 MiB