Package: RAREsim Version: 1.8.0 Command: rm -rf RAREsim.buildbin-libdir && mkdir RAREsim.buildbin-libdir && E:\biocbuild\bbs-3.19-bioc\R\bin\R.exe CMD INSTALL --build --library=RAREsim.buildbin-libdir RAREsim_1.8.0.tar.gz StartedAt: 2024-10-17 08:25:28 -0400 (Thu, 17 Oct 2024) EndedAt: 2024-10-17 08:25:37 -0400 (Thu, 17 Oct 2024) EllapsedTime: 9.5 seconds RetCode: 0 Status: OK PackageFile: RAREsim_1.8.0.zip PackageFileSize: 281 KiB