Package: RAIDS Version: 1.2.0 Command: E:\biocbuild\bbs-3.19-bioc\R\bin\R.exe CMD INSTALL RAIDS StartedAt: 2024-10-16 17:08:06 -0400 (Wed, 16 Oct 2024) EndedAt: 2024-10-16 17:09:50 -0400 (Wed, 16 Oct 2024) EllapsedTime: 104.5 seconds RetCode: 0 Status: OK