Package: RAIDS Version: 1.2.0 Command: /Library/Frameworks/R.framework/Resources/bin/R CMD check --install=check:RAIDS.install-out.txt --library=/Library/Frameworks/R.framework/Resources/library --no-vignettes --timings RAIDS_1.2.0.tar.gz StartedAt: 2024-10-18 08:38:55 -0400 (Fri, 18 Oct 2024) EndedAt: 2024-10-18 08:46:58 -0400 (Fri, 18 Oct 2024) EllapsedTime: 483.0 seconds RetCode: 0 Status: OK CheckDir: RAIDS.Rcheck Warnings: 0