Package: RAIDS Version: 1.2.0 Command: /Library/Frameworks/R.framework/Resources/bin/R CMD build --keep-empty-dirs --no-resave-data RAIDS StartedAt: 2024-10-17 07:06:38 -0400 (Thu, 17 Oct 2024) EndedAt: 2024-10-17 07:08:51 -0400 (Thu, 17 Oct 2024) EllapsedTime: 132.8 seconds RetCode: 0 Status: OK PackageFile: RAIDS_1.2.0.tar.gz PackageFileSize: 2.766 MiB