Package: R4RNA Version: 1.32.0 Command: chmod a+r R4RNA -R && E:\biocbuild\bbs-3.19-bioc\R\bin\R.exe CMD build --keep-empty-dirs --no-resave-data R4RNA StartedAt: 2024-10-16 21:19:29 -0400 (Wed, 16 Oct 2024) EndedAt: 2024-10-16 21:19:56 -0400 (Wed, 16 Oct 2024) EllapsedTime: 27.0 seconds RetCode: 0 Status: OK PackageFile: R4RNA_1.32.0.tar.gz PackageFileSize: 788.1 KiB