Package: R4RNA Version: 1.32.0 Command: /Library/Frameworks/R.framework/Resources/bin/R CMD check --install=check:R4RNA.install-out.txt --library=/Library/Frameworks/R.framework/Resources/library --no-vignettes --timings R4RNA_1.32.0.tar.gz StartedAt: 2024-10-17 11:26:52 -0400 (Thu, 17 Oct 2024) EndedAt: 2024-10-17 11:29:53 -0400 (Thu, 17 Oct 2024) EllapsedTime: 180.7 seconds RetCode: 0 Status: OK CheckDir: R4RNA.Rcheck Warnings: 0