Package: R4RNA Version: 1.32.0 Command: /Library/Frameworks/R.framework/Resources/bin/R CMD build --keep-empty-dirs --no-resave-data R4RNA StartedAt: 2024-10-16 22:21:30 -0400 (Wed, 16 Oct 2024) EndedAt: 2024-10-16 22:22:19 -0400 (Wed, 16 Oct 2024) EllapsedTime: 49.3 seconds RetCode: 0 Status: OK PackageFile: R4RNA_1.32.0.tar.gz PackageFileSize: 903.7 KiB