Package: R4RNA Version: 1.32.0 Command: /Library/Frameworks/R.framework/Resources/bin/R CMD check --install=check:R4RNA.install-out.txt --library=/Library/Frameworks/R.framework/Resources/library --no-vignettes --timings R4RNA_1.32.0.tar.gz StartedAt: 2024-06-11 02:18:19 -0400 (Tue, 11 Jun 2024) EndedAt: 2024-06-11 02:20:30 -0400 (Tue, 11 Jun 2024) EllapsedTime: 130.9 seconds RetCode: 0 Status: OK CheckDir: R4RNA.Rcheck Warnings: 0