Package: R4RNA Version: 1.32.0 Command: rm -rf R4RNA.buildbin-libdir && mkdir R4RNA.buildbin-libdir && /Users/biocbuild/BBS/utils/build-universal.sh R4RNA_1.32.0.tar.gz /Library/Frameworks/R.framework/Resources/bin/R R4RNA.buildbin-libdir StartedAt: 2024-06-11 12:40:37 -0400 (Tue, 11 Jun 2024) EndedAt: 2024-06-11 12:40:59 -0400 (Tue, 11 Jun 2024) EllapsedTime: 21.2 seconds RetCode: 0 Status: OK PackageFile: R4RNA_1.32.0.tgz PackageFileSize: 1.018 MiB