Package: R453Plus1Toolbox Version: 1.54.0 Command: chmod a+r R453Plus1Toolbox -R && E:\biocbuild\bbs-3.19-bioc\R\bin\R.exe CMD build --keep-empty-dirs --no-resave-data R453Plus1Toolbox StartedAt: 2024-10-16 21:19:25 -0400 (Wed, 16 Oct 2024) EndedAt: 2024-10-16 21:22:52 -0400 (Wed, 16 Oct 2024) EllapsedTime: 206.8 seconds RetCode: 0 Status: OK PackageFile: R453Plus1Toolbox_1.54.0.tar.gz PackageFileSize: 838.3 KiB