Package: R453Plus1Toolbox Version: 1.54.0 Command: F:\biocbuild\bbs-3.19-bioc\R\bin\R.exe CMD INSTALL R453Plus1Toolbox StartedAt: 2024-06-26 16:21:26 -0400 (Wed, 26 Jun 2024) EndedAt: 2024-06-26 16:23:33 -0400 (Wed, 26 Jun 2024) EllapsedTime: 126.8 seconds RetCode: 0 Status: OK