Package: R453Plus1Toolbox Version: 1.54.0 Command: chmod a+r R453Plus1Toolbox -R && F:\biocbuild\bbs-3.19-bioc\R\bin\R.exe CMD build --keep-empty-dirs --no-resave-data R453Plus1Toolbox StartedAt: 2024-06-26 21:12:32 -0400 (Wed, 26 Jun 2024) EndedAt: 2024-06-26 21:16:02 -0400 (Wed, 26 Jun 2024) EllapsedTime: 210.3 seconds RetCode: 0 Status: OK PackageFile: R453Plus1Toolbox_1.54.0.tar.gz PackageFileSize: 838.3 KiB