Package: R453Plus1Toolbox Version: 1.54.0 Command: rm -rf R453Plus1Toolbox.buildbin-libdir && mkdir R453Plus1Toolbox.buildbin-libdir && F:\biocbuild\bbs-3.19-bioc\R\bin\R.exe CMD INSTALL --build --library=R453Plus1Toolbox.buildbin-libdir R453Plus1Toolbox_1.54.0.tar.gz StartedAt: 2024-06-27 08:44:01 -0400 (Thu, 27 Jun 2024) EndedAt: 2024-06-27 08:46:03 -0400 (Thu, 27 Jun 2024) EllapsedTime: 121.3 seconds RetCode: 0 Status: OK PackageFile: R453Plus1Toolbox_1.54.0.zip PackageFileSize: 2.25 MiB