Package: R453Plus1Toolbox Version: 1.54.0 Command: /home/biocbuild/bbs-3.19-bioc/R/bin/R CMD build --keep-empty-dirs --no-resave-data R453Plus1Toolbox StartedAt: 2024-10-16 20:17:24 -0400 (Wed, 16 Oct 2024) EndedAt: 2024-10-16 20:19:13 -0400 (Wed, 16 Oct 2024) EllapsedTime: 109.2 seconds RetCode: 0 Status: OK PackageFile: R453Plus1Toolbox_1.54.0.tar.gz PackageFileSize: 839 KiB