Package: R453Plus1Toolbox Version: 1.54.0 Command: /Library/Frameworks/R.framework/Resources/bin/R CMD build --keep-empty-dirs --no-resave-data R453Plus1Toolbox StartedAt: 2024-10-16 22:21:26 -0400 (Wed, 16 Oct 2024) EndedAt: 2024-10-16 22:26:24 -0400 (Wed, 16 Oct 2024) EllapsedTime: 298.5 seconds RetCode: 0 Status: OK PackageFile: R453Plus1Toolbox_1.54.0.tar.gz PackageFileSize: 838.9 KiB