Package: R453Plus1Toolbox Version: 1.54.0 Command: rm -rf R453Plus1Toolbox.buildbin-libdir && mkdir R453Plus1Toolbox.buildbin-libdir && /Users/biocbuild/BBS/utils/build-universal.sh R453Plus1Toolbox_1.54.0.tar.gz /Library/Frameworks/R.framework/Resources/bin/R R453Plus1Toolbox.buildbin-libdir StartedAt: 2024-10-17 16:55:18 -0400 (Thu, 17 Oct 2024) EndedAt: 2024-10-17 16:58:28 -0400 (Thu, 17 Oct 2024) EllapsedTime: 190.0 seconds RetCode: 0 Status: OK PackageFile: R453Plus1Toolbox_1.54.0.tgz PackageFileSize: 2.266 MiB