Package: R453Plus1Toolbox Version: 1.54.0 Command: /Library/Frameworks/R.framework/Resources/bin/R CMD build --keep-empty-dirs --no-resave-data R453Plus1Toolbox StartedAt: 2024-06-09 17:49:52 -0400 (Sun, 09 Jun 2024) EndedAt: 2024-06-09 17:51:53 -0400 (Sun, 09 Jun 2024) EllapsedTime: 120.7 seconds RetCode: 0 Status: OK PackageFile: R453Plus1Toolbox_1.54.0.tar.gz PackageFileSize: 839 KiB