Package: R453Plus1Toolbox Version: 1.54.0 Command: /Library/Frameworks/R.framework/Resources/bin/R CMD build --keep-empty-dirs --no-resave-data R453Plus1Toolbox StartedAt: 2024-06-10 03:00:12 -0400 (Mon, 10 Jun 2024) EndedAt: 2024-06-10 03:03:27 -0400 (Mon, 10 Jun 2024) EllapsedTime: 195.5 seconds RetCode: 0 Status: OK PackageFile: R453Plus1Toolbox_1.54.0.tar.gz PackageFileSize: 838.9 KiB