Package: R453Plus1Toolbox Version: 1.54.0 Command: /Library/Frameworks/R.framework/Resources/bin/R CMD check --install=check:R453Plus1Toolbox.install-out.txt --library=/Library/Frameworks/R.framework/Resources/library --no-vignettes --timings R453Plus1Toolbox_1.54.0.tar.gz StartedAt: 2024-10-18 08:37:01 -0400 (Fri, 18 Oct 2024) EndedAt: 2024-10-18 08:44:35 -0400 (Fri, 18 Oct 2024) EllapsedTime: 454.6 seconds RetCode: 0 Status: OK CheckDir: R453Plus1Toolbox.Rcheck Warnings: 0