Package: R453Plus1Toolbox Version: 1.54.0 Maintainer: Hans-Ulrich Klein MaintainerEmail: h.klein at uni-muenster.de git_url: https://git.bioconductor.org/packages/R453Plus1Toolbox git_branch: RELEASE_3_19 git_last_commit: 0e73194 git_last_commit_date: 2024-04-30 10:22:58 -0400 (Tue, 30 Apr 2024)