Package: R3CPET Version: 1.36.0 Command: E:\biocbuild\bbs-3.19-bioc\R\bin\R.exe CMD INSTALL R3CPET StartedAt: 2024-10-16 16:49:31 -0400 (Wed, 16 Oct 2024) EndedAt: 2024-10-16 16:51:19 -0400 (Wed, 16 Oct 2024) EllapsedTime: 108.9 seconds RetCode: 0 Status: OK