Package: R3CPET Version: 1.36.0 Command: F:\biocbuild\bbs-3.19-bioc\R\bin\R.exe CMD INSTALL R3CPET StartedAt: 2024-06-26 16:23:54 -0400 (Wed, 26 Jun 2024) EndedAt: 2024-06-26 16:25:54 -0400 (Wed, 26 Jun 2024) EllapsedTime: 119.4 seconds RetCode: 0 Status: OK