Package: R3CPET Version: 1.36.0 Command: /home/biocbuild/bbs-3.19-bioc/R/bin/R CMD check --install=check:R3CPET.install-out.txt --library=/home/biocbuild/bbs-3.19-bioc/R/site-library --timings R3CPET_1.36.0.tar.gz StartedAt: 2024-10-17 04:05:49 -0400 (Thu, 17 Oct 2024) EndedAt: 2024-10-17 04:11:58 -0400 (Thu, 17 Oct 2024) EllapsedTime: 369.0 seconds RetCode: 0 Status: WARNINGS CheckDir: R3CPET.Rcheck Warnings: 1